BEGIN:VCALENDAR
VERSION:2.0
PRODID:icalendar-ruby
CALSCALE:GREGORIAN
METHOD:PUBLISH
BEGIN:VEVENT
DTSTAMP:20260420T071412Z
UID:11-448508@bethelbloxom.org
DTSTART:20260630T220000Z
DTEND:20260701T000000Z
CLASS:PUBLIC
CREATED:20260420T001736
DESCRIPTION:Currently going through the "Experiencing God" study. Feel free
  to join us any time!
LAST-MODIFIED:20260420T001736
LOCATION:Bethel Baptist Church - 14050 Bethel Church Rd\, Bloxom
SUMMARY:Ladies Bible Study
URL;VALUE=URI:https://www.bethelbloxom.org/events/ladies-bible-study/2026-0
 6-30
END:VEVENT
END:VCALENDAR
