BEGIN:VCALENDAR
VERSION:2.0
PRODID:icalendar-ruby
CALSCALE:GREGORIAN
METHOD:PUBLISH
BEGIN:VEVENT
DTSTAMP:20260420T130150Z
UID:11-449310@bethelbloxom.org
DTSTART:20260728T220000Z
DTEND:20260729T000000Z
CLASS:PUBLIC
CREATED:20260420T082909
DESCRIPTION:Currently going through the "Experiencing God" study. Feel free
  to join us any time!
LAST-MODIFIED:20260420T082909
LOCATION:Bethel Baptist Church - 14050 Bethel Church Rd\, Bloxom
SUMMARY:Ladies Bible Study
URL;VALUE=URI:https://www.bethelbloxom.org/events/ladies-bible-study/2026-0
 7-28
END:VEVENT
END:VCALENDAR
